BEGIN:VCALENDAR
VERSION:2.0
PRODID:-//pretix//pretix//
BEGIN:VTIMEZONE
TZID:Europe/Berlin
BEGIN:STANDARD
DTSTART:20001029T040000
RRULE:FREQ=YEARLY;BYDAY=-1SU;BYMONTH=10
TZNAME:CET
TZOFFSETFROM:+0200
TZOFFSETTO:+0100
END:STANDARD
BEGIN:DAYLIGHT
DTSTART:20000326T030000
RRULE:FREQ=YEARLY;BYDAY=-1SU;BYMONTH=3
TZNAME:CEST
TZOFFSETFROM:+0100
TZOFFSETTO:+0200
END:DAYLIGHT
END:VTIMEZONE
BEGIN:VEVENT
UID:pretix-FBJ-azp2027-0@fbj-tickets.de
DTSTART;TZID=Europe/Berlin:20270208T173000
DTEND;TZID=Europe/Berlin:20270208T183000
DESCRIPTION:Tickets: https://fbj-tickets.de/azp2027/\nVeranstalter: Festkom
 itee Bergische Jecken e.V.
DTSTAMP:20260420T105209Z
LOCATION:Grundschule Burg Berge\, Bergstraße 203\, 51519 Odenthal
SUMMARY:After Zoch Party 2027
END:VEVENT
END:VCALENDAR
